BEGIN:VCALENDAR
VERSION:2.0
PRODID:-//eventon.com NONSGML v1.0//EN
CALSCALE:GREGORIAN
METHOD:PUBLISH
BEGIN:VEVENT
UID:69ecd7619cb05
DTSTAMP:20260425T150153Z
DTSTART:20240831T170000Z
DTEND:20240831T181500Z
LOCATION:Wiese vor dem Johann-Sebastian-Bach-Saal Schloßplatz 4\,  06366 Köthen (Anhalt)
SUMMARY:Videoübertragung (35) Babel Bach
DESCRIPTION:Poetry-Slammer aus Deutschland\,  Frankreich und Italien\,  ein
  Beatboxer\,  eine Cellistin und Cembalist geben die Zutaten zu einem Abend
 \,  der berührt und begeistert. Eine inspirierende Reise in verschiedene S
 prachkulturen und musikalische Welten\,  die vom Weltstar Johann Sebastian 
 Bach zusammengehalten wird. Atemberaubend! Mitwirkende: Mehdi Krüger (Slam
  Poet) Josephine von Blütenstaub (Slam Poetin)[..]\nhttps://www.bachfestta
 ge.de/events/videouebertragung-35-babel-bach/
URL:https://www.bachfesttage.de/events/videouebertragung-35-babel-bach/
END:VEVENT
END:VCALENDAR