BEGIN:VCALENDAR
VERSION:2.0
PRODID:-//eventon.com NONSGML v1.0//EN
CALSCALE:GREGORIAN
METHOD:PUBLISH
BEGIN:VEVENT
UID:69ec95e3c56ff
DTSTAMP:20260425T102227Z
DTSTART:20220902T200000Z
DTEND:20220902T203000Z
LOCATION:Dürerbundhaus Theaterstraße 12\,  06366 Köthen (Anhalt)
SUMMARY:(35) Nachtkonzert: Elektronik plus
DESCRIPTION:Laura Mingo (Stimme und Cembalo)Henry Brandstätter (Elektronik
 ) Das am Rand des Schlossparks gelegene Dürerbundhaus verwandelt sich bei 
 diesen Bachfesttagen in einen Ort der Experimente zwischen Alter Musik und 
 Elektronik\,  zwischen Tradition und zeitgemäßer Kunstpraxis. Der Ort wir
 d nicht lange ein Geheimtipp bleiben.\nhttps://www.bachfesttage.de/events/1
 8-nachtkonzert-elektronik-plus/
URL:https://www.bachfesttage.de/events/18-nachtkonzert-elektronik-plus/
END:VEVENT
END:VCALENDAR