BEGIN:VCALENDAR
VERSION:2.0
PRODID:-//eventon.com NONSGML v1.0//EN
CALSCALE:GREGORIAN
METHOD:PUBLISH
BEGIN:VEVENT
UID:69eca49ae8f9f
DTSTAMP:20260425T112514Z
DTSTART:20260905T090000Z
DTEND:20260905T100000Z
LOCATION:Kirche St. Agnus Stiftstraße 11\,  06366 Köthen (Anhalt)
SUMMARY:(17) Preisträgerkonzert
DESCRIPTION:Alle zwei Jahre veranstaltet die Köthener BachGesellschaft den
  Bach-Wettbewerb für junge Klaviertalente. Rund 70 Teilnehmende aus dem ge
 samten deutschsprachigen Raum stellen sich der hochkarätig besetzten Jury 
 unter Vorsitz des Leipziger Klavierprofessors Dietmar Nawroth. In diesem Ko
 nzert stellen sich die jugendlichen Preisträgerinnen und Preisträger des 
 letzten Wettbewerbes vor. Dauer: 60 Minuten[..]\nhttps://www.bachfesttage.d
 e/events/17-konzert-junger-klaviertalente/
URL:https://www.bachfesttage.de/events/17-konzert-junger-klaviertalente/
END:VEVENT
END:VCALENDAR