BEGIN:VCALENDAR
VERSION:2.0
PRODID:-//eventon.com NONSGML v1.0//EN
CALSCALE:GREGORIAN
METHOD:PUBLISH
BEGIN:VEVENT
UID:69eca56697575
DTSTAMP:20260425T112838Z
DTSTART:20260906T110000Z
DTEND:20260906T114500Z
LOCATION:Spiegelsaal im Schloss KÃ¶then SchloÃŸplatz 4\,  06366 KÃ¶then (Anhalt)
SUMMARY:(31) Kantatenkonzert: Amore traditore
DESCRIPTION:Die Bach-Kantate â€žAmore traditoreâ€œ ist wahrscheinlich in KÃ
 ¶then entstanden und von einem durchreisenden SÃ¤nger namens Riemenschneide
 r gesungen worden â€“ im heutigen Spiegelsaal. Johann Sebastian Bach: Amore
  traditore (BWV 203) Dauer: 45 Minuten Karten: 20 â‚¬\,  ermÃ¤ÃŸigt 10 â‚¬ 
 Foto: Henner Fritzsche\,  KÃ¶then (Anhalt) Der Zugang zum Veranstaltungsort
  ist nicht barrierefrei.\nhttps://www.bachfesttage.de/events/31-kantatenkon
 zert-amore-traditore/
URL:https://www.bachfesttage.de/events/31-kantatenkonzert-amore-traditore/
END:VEVENT
END:VCALENDAR