BEGIN:VCALENDAR
VERSION:2.0
PRODID:-//eventon.com NONSGML v1.0//EN
CALSCALE:GREGORIAN
METHOD:PUBLISH
BEGIN:VEVENT
UID:69ecaa559aeae
DTSTAMP:20260425T114941Z
DTSTART:20260906T121500Z
DTEND:20260906T124000Z
LOCATION:Neue Musicalien-Kammer im Schloss Köthen Schloßplatz 4\,  06366 Köthen (Anhalt)
SUMMARY:Töne unter Druck: Der Dudelsack
DESCRIPTION:Der Köthener Künstler und Instrumentenbauer anlässlich seine
 s 25-jährigen Jubiläums Geschichte\,  Herstellung und Klangvariationen vo
 n Dudelsäcken. Der Zugang zum Veranstaltungsort ist nicht barrierefrei.Ver
 anstalter: Schloss Köthen Foto: Christian Korn\nhttps://www.bachfesttage.d
 e/events/toene-unter-druck-der-dudelsack-2/
URL:https://www.bachfesttage.de/events/toene-unter-druck-der-dudelsack-2/
END:VEVENT
END:VCALENDAR