BEGIN:VCALENDAR
VERSION:2.0
PRODID:-//eventon.com NONSGML v1.0//EN
CALSCALE:GREGORIAN
METHOD:PUBLISH
BEGIN:VEVENT
UID:69eca6dd9fdea
DTSTAMP:20260425T113453Z
DTSTART:20260905T193000Z
DTEND:20260905T210000Z
LOCATION:Schlosspark im Schloss Köthen Schloßplatz 4\,  06366 Köthen (Anhalt)
SUMMARY:Umsonst und draußen - Nachts im Park
DESCRIPTION:Johannes Lauer ist Professor für Jazzposaune in Leipzig\,  Ber
 tram Burkert einer der vielseitigsten Gitarristen seiner Generation. Zusamm
 en bieten sie eine einzigartige Musikmischung zwischen unterschiedlichsten 
 Stilen und Genres. Eintritt frei! Foto: Sebastian Köhler\nhttps://www.bach
 festtage.de/events/umsonst-und-draussen-nachts-im-park/
URL:https://www.bachfesttage.de/events/umsonst-und-draussen-nachts-im-park/
END:VEVENT
END:VCALENDAR