BEGIN:VCALENDAR
VERSION:2.0
PRODID:-//eventon.com NONSGML v1.0//EN
CALSCALE:GREGORIAN
METHOD:PUBLISH
BEGIN:VEVENT
UID:69eca4e185e23
DTSTAMP:20260425T112625Z
DTSTART:20260905T090000Z
DTEND:20260905T110000Z
LOCATION:Turm und Turmzimmer Kirche St. Jakob Marktplatz\,  06366 Köthen (Anhalt)
SUMMARY:Schwingungen - Installationen in luftiger Höhe
DESCRIPTION:Mutter. Seele. Allein. Immersive Installation von Hyunju Oh | K
 langsäule – Audio-Installation von Tibor Kovacs und dem Ensemble Evviva.
  Zugang jederzeit möglich. Eintritt frei! Der Zugang zum Veranstaltungsort
  ist nicht barrierefrei. Unterstützt durch die Karin und Uwe Hollweg Stift
 ung.\nhttps://www.bachfesttage.de/events/schwingungen-installationen-in-luf
 tiger-hoehe-2/
URL:https://www.bachfesttage.de/events/schwingungen-installationen-in-luftiger-hoehe-2/
END:VEVENT
END:VCALENDAR