BEGIN:VCALENDAR
VERSION:2.0
PRODID:-//eventon.com NONSGML v1.0//EN
CALSCALE:GREGORIAN
METHOD:PUBLISH
BEGIN:VEVENT
UID:69e7b285df58b
DTSTAMP:20260421T172317Z
DTSTART:20220904T141500Z
DTEND:20220904T144000Z
LOCATION:Altes Amtsgericht im Schloss Köthen Schloßplatz 4\,  06366 Köthen (Anhalt)
SUMMARY:(68) Kurzkonzert: Bach und Improvisationen
DESCRIPTION:Hauke Renken (Vibraphon) Der gebürtige Friese studierte Schlag
 werk und Jazz in Bremen\,  Berlin und Hamburg\,  komponiert und arrangiert.
  In Köthen präsentiert er seine eigene Mischung aus Barockmusik und Impro
 visationen. Foto: Alan Finlay\nhttps://www.bachfesttage.de/events/68-kurzko
 nzert-bach-und-improvisationen/
URL:https://www.bachfesttage.de/events/68-kurzkonzert-bach-und-improvisationen/
END:VEVENT
END:VCALENDAR